BEGIN:VCALENDAR
VERSION:2.0
PRODID:-//FERBOPO ERA Chair - EU-Funded Project - ECPv6.8.1//NONSGML v1.0//EN
CALSCALE:GREGORIAN
METHOD:PUBLISH
X-WR-CALNAME:FERBOPO ERA Chair - EU-Funded Project
X-ORIGINAL-URL:https://grants.ulbsibiu.ro/ferbopo
X-WR-CALDESC:Events for FERBOPO ERA Chair - EU-Funded Project
REFRESH-INTERVAL;VALUE=DURATION:PT1H
X-Robots-Tag:noindex
X-PUBLISHED-TTL:PT1H
BEGIN:VTIMEZONE
TZID:UTC
BEGIN:STANDARD
TZOFFSETFROM:+0000
TZOFFSETTO:+0000
TZNAME:UTC
DTSTART:20250101T000000
END:STANDARD
END:VTIMEZONE
BEGIN:VEVENT
DTSTART;TZID=UTC:20251203T100000
DTEND;TZID=UTC:20251203T120000
DTSTAMP:20260421T110728
CREATED:20251126T190233Z
LAST-MODIFIED:20251126T194404Z
UID:495-1764756000-1764763200@grants.ulbsibiu.ro
SUMMARY:Weekly Research Meetings
DESCRIPTION:As the leader of the newly established research group working on state–church–gender topics\, ERA Chair Lavinia Stan meets every Wednesday morning with the team—Drs. Greta Biro\, Anca Mandru\, Stefan Morar\, Diane Vancea\, and Ionela Vlase—to discuss and develop research papers related to these themes. \nThe team has strong methodological and theoretical expertise\, as well as a diverse range of research interests. The group can accommodate\, upon request\, a limited number of ULBS students and professors who wish to improve their academic writing and research skills. \nRequests can be sent to: grant.ferbopo@ulbsibiu.ro
URL:https://grants.ulbsibiu.ro/ferbopo/event/weekly-research-meetings/
ATTACH;FMTTYPE=image/png:https://grants.ulbsibiu.ro/ferbopo/wp-content/uploads/weekly-research-meetings-ferbopo.png
END:VEVENT
END:VCALENDAR