BEGIN:VCALENDAR
VERSION:2.0
PRODID:-//FERBOPO ERA Chair - EU-Funded Project - ECPv6.8.1//NONSGML v1.0//EN
CALSCALE:GREGORIAN
METHOD:PUBLISH
X-ORIGINAL-URL:https://grants.ulbsibiu.ro/ferbopo
X-WR-CALDESC:Events for FERBOPO ERA Chair - EU-Funded Project
REFRESH-INTERVAL;VALUE=DURATION:PT1H
X-Robots-Tag:noindex
X-PUBLISHED-TTL:PT1H
BEGIN:VTIMEZONE
TZID:Europe/Helsinki
BEGIN:DAYLIGHT
TZOFFSETFROM:+0200
TZOFFSETTO:+0300
TZNAME:EEST
DTSTART:20260329T010000
END:DAYLIGHT
BEGIN:STANDARD
TZOFFSETFROM:+0300
TZOFFSETTO:+0200
TZNAME:EET
DTSTART:20261025T010000
END:STANDARD
TZID:UTC
BEGIN:STANDARD
TZOFFSETFROM:+0000
TZOFFSETTO:+0000
TZNAME:UTC
DTSTART:20260101T000000
END:STANDARD
END:VTIMEZONE
BEGIN:VEVENT
DTSTART;TZID=Europe/Helsinki:20260306T100000
DTEND;TZID=Europe/Helsinki:20260306T140000
DTSTAMP:20260422T154237
CREATED:20260219T173518Z
LAST-MODIFIED:20260219T174304Z
UID:605-1772791200-1772805600@grants.ulbsibiu.ro
SUMMARY:Gender Equality Week 2026: Exhibition - Exhibition: Women Shaping  Words and Worlds
DESCRIPTION:This exhibition presents perspectives on the evolution of women’s roles and representations across time and contexts. Visitors are invited to explore themes related to gender\, identity\, and social change through curated visual materials. \nDate: Friday\, 6 March 2026Time: 10:00 – 14:00Location: ULBS Library\, Main Lobby \n👉 Register for this session
URL:https://grants.ulbsibiu.ro/ferbopo/event/gender-equality-week-2026-exhibition-women-shaping-words-worlds/
LOCATION:ULBS Library\, 2A Lucian Blaga St.\, Sibiu\, Romania
ATTACH;FMTTYPE=image/png:https://grants.ulbsibiu.ro/ferbopo/wp-content/uploads/gender-equality-event6.png
ORGANIZER;CN="FERBOPO ERA Chair":MAILTO:grant.ferbopo@ulbsibiu.ro
END:VEVENT
BEGIN:VEVENT
DTSTART;TZID=UTC:20260522T113000
DTEND;TZID=UTC:20260522T143000
DTSTAMP:20260422T154237
CREATED:20260417T214047Z
LAST-MODIFIED:20260417T214234Z
UID:700-1779449400-1779460200@grants.ulbsibiu.ro
SUMMARY:Roundtable 2026 - FERBOPO ERA Chair
DESCRIPTION:The FERBOPO ERA Chair project will host a new roundtable event in 2026.  \nThe roundtable aims to foster exchange of perspectives on issues central to the FERBOPO research agenda\, including gender equality\, institutional dynamics\, and social transformation. This event will provide a platform for discussion and knowledge sharing on key topics pertaining to the FERBOPO agenda.
URL:https://grants.ulbsibiu.ro/ferbopo/event/roundtable-2026-ferbopo-era-chair/
LOCATION:Private: Mercure Sibiu Arsenal\, Bulevardul Victoriei 48\, Sibiu 550024\, Sibiu\, Romania
ATTACH;FMTTYPE=image/png:https://grants.ulbsibiu.ro/ferbopo/wp-content/uploads/ferbopo-roundtable-2026-1.png
END:VEVENT
END:VCALENDAR