BEGIN:VCALENDAR
VERSION:2.0
PRODID:-//FERBOPO ERA Chair - EU-Funded Project - ECPv6.8.1//NONSGML v1.0//EN
CALSCALE:GREGORIAN
METHOD:PUBLISH
X-ORIGINAL-URL:https://grants.ulbsibiu.ro/ferbopo
X-WR-CALDESC:Events for FERBOPO ERA Chair - EU-Funded Project
REFRESH-INTERVAL;VALUE=DURATION:PT1H
X-Robots-Tag:noindex
X-PUBLISHED-TTL:PT1H
BEGIN:VTIMEZONE
TZID:Europe/Helsinki
BEGIN:DAYLIGHT
TZOFFSETFROM:+0200
TZOFFSETTO:+0300
TZNAME:EEST
DTSTART:20260329T010000
END:DAYLIGHT
BEGIN:STANDARD
TZOFFSETFROM:+0300
TZOFFSETTO:+0200
TZNAME:EET
DTSTART:20261025T010000
END:STANDARD
TZID:Europe/Moscow
BEGIN:STANDARD
TZOFFSETFROM:+0300
TZOFFSETTO:+0300
TZNAME:MSK
DTSTART:20260101T000000
END:STANDARD
END:VTIMEZONE
BEGIN:VEVENT
DTSTART;TZID=Europe/Helsinki:20260302T150000
DTEND;TZID=Europe/Helsinki:20260302T160000
DTSTAMP:20260422T221618
CREATED:20260218T173052Z
LAST-MODIFIED:20260219T174333Z
UID:581-1772463600-1772467200@grants.ulbsibiu.ro
SUMMARY:Gender Equality Week 2026: Sexist Humour in Organizations
DESCRIPTION:This session explores how sexist humour manifests in organizational contexts and its implications for workplace culture\, inclusion\, and gender equality. Participants will discuss how humour can reinforce stereotypes and power dynamics\, as well as strategies for promoting inclusive environments. \nThe speaker for this session is Professor Ionela Vlase. \nDate: Monday\, 2 March 2026 \nTime: 15:00 – 16:00 \nLocation: ULBS Library\, 5th Floor (Mansard)\, Room M12 \n👉 Register for this session
URL:https://grants.ulbsibiu.ro/ferbopo/event/sexist-humour-organizations-gender-equality-week-2026/
LOCATION:ULBS Library\, 2A Lucian Blaga St.\, Sibiu\, Romania
ATTACH;FMTTYPE=image/png:https://grants.ulbsibiu.ro/ferbopo/wp-content/uploads/gender-equality-event1.png
ORGANIZER;CN="FERBOPO ERA Chair":MAILTO:grant.ferbopo@ulbsibiu.ro
END:VEVENT
BEGIN:VEVENT
DTSTART;TZID=Europe/Helsinki:20260303T150000
DTEND;TZID=Europe/Helsinki:20260303T160000
DTSTAMP:20260422T221618
CREATED:20260219T171751Z
LAST-MODIFIED:20260219T174441Z
UID:586-1772550000-1772553600@grants.ulbsibiu.ro
SUMMARY:Gender Equality Week 2026: Gender in Leadership Roles
DESCRIPTION:This discussion focuses on gender dynamics in leadership\, addressing barriers to women’s advancement\, representation in decision-making positions\, and the importance of inclusive leadership practices. The session aims to foster dialogue on how institutions can support gender-balanced leadership. \nThe speaker for this session is Professor Mihaela Herciu. \nDate: Tuesday\, 3 March 2026Time: 15:00 – 16:00Location: ULBS Library\, 5th Floor (Mansard)\, Room M12 \n👉 Register for this session
URL:https://grants.ulbsibiu.ro/ferbopo/event/gender-equality-week-2026-gender-in-leadership-roles/
LOCATION:ULBS Library\, 2A Lucian Blaga St.\, Sibiu\, Romania
ATTACH;FMTTYPE=image/png:https://grants.ulbsibiu.ro/ferbopo/wp-content/uploads/gender-equality-event2.png
ORGANIZER;CN="FERBOPO ERA Chair":MAILTO:grant.ferbopo@ulbsibiu.ro
END:VEVENT
BEGIN:VEVENT
DTSTART;TZID=Europe/Helsinki:20260304T150000
DTEND;TZID=Europe/Helsinki:20260304T160000
DTSTAMP:20260422T221618
CREATED:20260219T171844Z
LAST-MODIFIED:20260219T174508Z
UID:589-1772636400-1772640000@grants.ulbsibiu.ro
SUMMARY:Gender Equality Week 2026: Women in Politics (Hybrid Event)
DESCRIPTION:Presented by ERA Chair Holder Prof. Lavinia Stan\, this session examines women’s political participation\, representation\, and leadership in contemporary societies. Discussions will address structural challenges\, opportunities for empowerment\, and the broader implications for democratic governance and equality. \nDate: Wednesday\, 4 March 2026Time: 15:00 – 16:00Location: ULBS Library\, 5th Floor (Mansard)\, Room M12Format: Hybrid (onsite and online participation available) \nOnline Access Link: https://meet.google.com/dnd-ehsr-hos\n \n👉 Register for this session
URL:https://grants.ulbsibiu.ro/ferbopo/event/gender-equality-week-2026-women-in-politics/
LOCATION:ULBS Library\, 2A Lucian Blaga St.\, Sibiu\, Romania
ATTACH;FMTTYPE=image/png:https://grants.ulbsibiu.ro/ferbopo/wp-content/uploads/gender-equality-event3.png
ORGANIZER;CN="FERBOPO ERA Chair":MAILTO:grant.ferbopo@ulbsibiu.ro
END:VEVENT
BEGIN:VEVENT
DTSTART;TZID=Europe/Helsinki:20260305T150000
DTEND;TZID=Europe/Helsinki:20260305T160000
DTSTAMP:20260422T221618
CREATED:20260219T171924Z
LAST-MODIFIED:20260219T175226Z
UID:608-1772722800-1772726400@grants.ulbsibiu.ro
SUMMARY:Gender Equality Week 2026: Gender Equality in ULBS
DESCRIPTION:The session will present initiatives and perspectives related to gender equality within Lucian Blaga University of Sibiu\, including institutional policies and opportunities for fostering inclusive academic environments. \nThe speakers for this session are: Asist.univ.dr. Carolina Țîmbalari\, Drd. Alexandra Radu and Drd. Bogdan Mihai \nDate: Thursday\, 5 March 2026Time: 15:00 – 16:00Location: ULBS Library\, 5th Floor (Mansard)\, Room M12 \n👉 Register for this session
URL:https://grants.ulbsibiu.ro/ferbopo/event/gender-equality-week-2026-gender-equality-in-ulbs/
LOCATION:ULBS Library\, 2A Lucian Blaga St.\, Sibiu\, Romania
ATTACH;FMTTYPE=image/png:https://grants.ulbsibiu.ro/ferbopo/wp-content/uploads/gender-equality-event4.png
ORGANIZER;CN="FERBOPO ERA Chair":MAILTO:grant.ferbopo@ulbsibiu.ro
END:VEVENT
BEGIN:VEVENT
DTSTART;TZID=Europe/Helsinki:20260305T160000
DTEND;TZID=Europe/Helsinki:20260305T170000
DTSTAMP:20260422T221618
CREATED:20260219T173448Z
LAST-MODIFIED:20260219T174234Z
UID:621-1772726400-1772730000@grants.ulbsibiu.ro
SUMMARY:Gender Equality Week 2026: The danger comes from grandmothers: Religion and atheist education in socialist women's magazines
DESCRIPTION:As part of the ‘Institutionalized Religion and Gender‘ session\, this presentation focuses on representations of religion and gender in socialist-era women’s magazines. \nThe speaker for this session is Anca Mândru and the moderator of the discussion is Prof. Ionela Vlase. \nDate: Thursday\, 5 March 2026Time: 16:00 – 17:00Location: ULBS Library\, 5th Floor (Mansard)\, Room M12 \n👉 Register for this session
URL:https://grants.ulbsibiu.ro/ferbopo/event/gender-equality-week-2026-danger-comes-from-grandmothers/
LOCATION:ULBS Library\, 2A Lucian Blaga St.\, Sibiu\, Romania
ATTACH;FMTTYPE=image/png:https://grants.ulbsibiu.ro/ferbopo/wp-content/uploads/gender-equality-event5.3.png
ORGANIZER;CN="FERBOPO ERA Chair":MAILTO:grant.ferbopo@ulbsibiu.ro
END:VEVENT
BEGIN:VEVENT
DTSTART;TZID=Europe/Helsinki:20260305T160000
DTEND;TZID=Europe/Helsinki:20260305T170000
DTSTAMP:20260422T221618
CREATED:20260219T173451Z
LAST-MODIFIED:20260219T174243Z
UID:618-1772726400-1772730000@grants.ulbsibiu.ro
SUMMARY:Gender Equality Week 2026: Negotiating identity in the context of human rights and Islam: a case of transgender community-based organizations from Malaysia
DESCRIPTION:As part of the ‘Institutionalized Religion and Gender‘ session\, this presentation explores how transgender community-based organizations in Malaysia navigate identity\, rights\, and social inclusion within a context shaped by religious norms and human rights discourse. \nThe speaker for this session is Greta Timea Biro and the moderator of the discussion is Prof. Ionela Vlase. \nDate: Thursday\, 5 March 2026Time: 16:00 – 17:00Location: ULBS Library\, 5th Floor (Mansard)\, Room M12 \n👉 Register for this session
URL:https://grants.ulbsibiu.ro/ferbopo/event/gender-equality-week-2026-negotiating-identity-human-rights/
LOCATION:ULBS Library\, 2A Lucian Blaga St.\, Sibiu\, Romania
ATTACH;FMTTYPE=image/png:https://grants.ulbsibiu.ro/ferbopo/wp-content/uploads/gender-equality-event5.2.png
ORGANIZER;CN="FERBOPO ERA Chair":MAILTO:grant.ferbopo@ulbsibiu.ro
END:VEVENT
BEGIN:VEVENT
DTSTART;TZID=Europe/Helsinki:20260305T160000
DTEND;TZID=Europe/Helsinki:20260305T170000
DTSTAMP:20260422T221618
CREATED:20260219T173503Z
LAST-MODIFIED:20260219T174254Z
UID:599-1772726400-1772730000@grants.ulbsibiu.ro
SUMMARY:Gender Equality Week 2026: Run by women\, managed by men: Transnistria's public administration and its public servants
DESCRIPTION:As part of the ‘Institutionalized Religion and Gender‘ session\, this presentation examines gender dynamics within public administration in Transnistria\, exploring how women’s participation in public sector roles intersects with institutional hierarchies and power structures. \nThe speaker for this session is Ștefan Morar and the moderator of the discussion is Prof. Ionela Vlase. \nDate: Thursday\, 5 March 2026Time: 16:00 – 17:00Location: ULBS Library\, 5th Floor (Mansard)\, Room M12 \n👉 Register for this session
URL:https://grants.ulbsibiu.ro/ferbopo/event/gender-equality-week-2026-run-by-women/
LOCATION:ULBS Library\, 2A Lucian Blaga St.\, Sibiu\, Romania
ATTACH;FMTTYPE=image/png:https://grants.ulbsibiu.ro/ferbopo/wp-content/uploads/gender-equality-event5.1.png
ORGANIZER;CN="FERBOPO ERA Chair":MAILTO:grant.ferbopo@ulbsibiu.ro
END:VEVENT
BEGIN:VEVENT
DTSTART;TZID=Europe/Helsinki:20260306T100000
DTEND;TZID=Europe/Helsinki:20260306T140000
DTSTAMP:20260422T221618
CREATED:20260219T173518Z
LAST-MODIFIED:20260219T174304Z
UID:605-1772791200-1772805600@grants.ulbsibiu.ro
SUMMARY:Gender Equality Week 2026: Exhibition - Exhibition: Women Shaping  Words and Worlds
DESCRIPTION:This exhibition presents perspectives on the evolution of women’s roles and representations across time and contexts. Visitors are invited to explore themes related to gender\, identity\, and social change through curated visual materials. \nDate: Friday\, 6 March 2026Time: 10:00 – 14:00Location: ULBS Library\, Main Lobby \n👉 Register for this session
URL:https://grants.ulbsibiu.ro/ferbopo/event/gender-equality-week-2026-exhibition-women-shaping-words-worlds/
LOCATION:ULBS Library\, 2A Lucian Blaga St.\, Sibiu\, Romania
ATTACH;FMTTYPE=image/png:https://grants.ulbsibiu.ro/ferbopo/wp-content/uploads/gender-equality-event6.png
ORGANIZER;CN="FERBOPO ERA Chair":MAILTO:grant.ferbopo@ulbsibiu.ro
END:VEVENT
BEGIN:VEVENT
DTSTART;TZID=Europe/Moscow:20260513T140000
DTEND;TZID=Europe/Moscow:20260513T150000
DTSTAMP:20260422T221618
CREATED:20260422T204111Z
LAST-MODIFIED:20260422T214956Z
UID:712-1778680800-1778684400@grants.ulbsibiu.ro
SUMMARY:Ionela Băluță - Feminism în Romania după 1989 | Sober Thought
DESCRIPTION:Feminism în România după 1989\nHow did feminism take root in Romania after the fall of communism — and what obstacles has it faced ever since? \nIn the opening lecture of the Sober Thought series\, Professor Ionela Băluță traces the emergence\, institutionalisation\, and ongoing contestation of feminist thought and gender studies in post-1989 Romania\, exploring the political\, academic\, and social forces that have shaped — and at times tried to suppress — this field. \nEvent Details:\n📅 Wednesday\, 13 May 2026\n🕑 14:00 EEST \n✅Register for free → https://forms.gle/tXqkwj7pbTZCkgjG8\n💻 Join us online via Google Meet: https://meet.google.com/xvj-ogxd-woc  \n🎓 Free & open to all \nIonela Băluță:\nIonela Băluță is Full Professor at the Faculty of Political Science\, University of Bucharest\, and Director of the Centre for the Study of Equal Opportunity Policies. She holds a PhD in Sociology from the École des Hautes Études en Sciences Sociales (EHESS\, Paris\, 2005) and habilitation in Political Science (2017). She founded and coordinates the Master’s programme in Equal Opportunity Policies — the first and only programme of its kind at the University of Bucharest\, and the only one in Romania affiliated with a European consortium. Her research covers gender studies\, feminist history\, women’s political representation\, anti-gender campaigns\, and biopolitics in post-communist Romania. She has published widely in Romanian and international academic venues and was Dean of the Faculty of Political Science (2016–2019). \nAbout Sober Thought: A FERBOPO Forum\nSober Thought: A FERBOPO Forum represents a new series of free online talks exploring the intersections of state\, religion\, and body politics in Romania and Central and Eastern Europe. Over the coming months\, leading scholars will present their work to an open international audience — followed by a live Q&A. Sessions run 60–75 minutes and are free to attend. \nThis event is part of the Sober Thought series — view all upcoming sessions
URL:https://grants.ulbsibiu.ro/ferbopo/event/sober-thought-baluta-feminism-romania-1989/
CATEGORIES:Sober Thought
ATTACH;FMTTYPE=image/png:https://grants.ulbsibiu.ro/ferbopo/wp-content/uploads/sober-thought-13-may-2026.png
ORGANIZER;CN="FERBOPO ERA Chair":MAILTO:grant.ferbopo@ulbsibiu.ro
END:VEVENT
BEGIN:VEVENT
DTSTART;TZID=Europe/Moscow:20260522T113000
DTEND;TZID=Europe/Moscow:20260522T143000
DTSTAMP:20260422T221618
CREATED:20260417T214047Z
LAST-MODIFIED:20260422T203638Z
UID:700-1779449400-1779460200@grants.ulbsibiu.ro
SUMMARY:Roundtable 2026 - FERBOPO ERA Chair
DESCRIPTION:The FERBOPO ERA Chair project will host a new roundtable event in 2026.  \nThe roundtable aims to foster exchange of perspectives on issues central to the FERBOPO research agenda\, including gender equality\, institutional dynamics\, and social transformation. This event will provide a platform for discussion and knowledge sharing on key topics pertaining to the FERBOPO agenda.
URL:https://grants.ulbsibiu.ro/ferbopo/event/roundtable-2026-ferbopo-era-chair/
LOCATION:Private: Mercure Sibiu Arsenal\, Bulevardul Victoriei 48\, Sibiu 550024\, Sibiu\, Romania
ATTACH;FMTTYPE=image/png:https://grants.ulbsibiu.ro/ferbopo/wp-content/uploads/ferbopo-roundtable-2026-1.png
END:VEVENT
BEGIN:VEVENT
DTSTART;TZID=Europe/Moscow:20260527T140000
DTEND;TZID=Europe/Moscow:20260527T150000
DTSTAMP:20260422T221618
CREATED:20260422T214959Z
LAST-MODIFIED:20260422T215027Z
UID:724-1779890400-1779894000@grants.ulbsibiu.ro
SUMMARY:Sabrina P. Ramet - Religion and Nation | Sober Thought
DESCRIPTION:Religion and Nation\nHow has religion shaped national identity in Eastern Europe — and how has nationalism in turn reshaped the churches? \nIn this Sober Thought session\, Professor Emerita Sabrina P. Ramet focuses on examining the entangled histories of religious institutions and national movements. \nEvent Details:\n📅 Wednesday\, 27 May 2026\n🕑 14:00 EEST \n✅Register for free → https://forms.gle/tXqkwj7pbTZCkgjG8\n💻 Join us online via Google Meet: https://meet.google.com/xvj-ogxd-woc  \n🎓 Free & open to all \nSabrina P. Ramet:\nSabrina P. Ramet is a Professor Emerita of Political Science at the Norwegian University of Science and Technology (NTNU)\, in Trondheim\, Norway. Born in London\, England\, she received her undergraduate degree in philosophy at Stanford University\, her MA in international relations from the University of Arkansas\, and her Ph.D. in political science at UCLA in 1981. She is the author of 16 scholarly books (three of which have been published in Croatian translations)\, co-author of three\, and editor or co-editor of 43 scholarly books (of which 42 have been published to date\, with one in production). Her latest monograph is East Central Europe and Communism:  Politics\, Culture\, and Society\, 1943-1991 (London & New York:  Routledge\, 2023).  She is also the author of two absurdist novellas: Café Bombshell: The International Brain Surgery Conspiracy (Scarith Books\, 2008) and The Curse of the Aztec Dummy (Scarith Books\, 2017) and six volumes of humorous verse. \nAbout Sober Thought: A FERBOPO Forum\nSober Thought: A FERBOPO Forum represents a new series of free online talks exploring the intersections of state\, religion\, and body politics in Romania and Central and Eastern Europe. Over the coming months\, leading scholars will present their work to an open international audience — followed by a live Q&A. Sessions run 60–75 minutes and are free to attend. \nThis event is part of the Sober Thought series — view all upcoming sessions
URL:https://grants.ulbsibiu.ro/ferbopo/event/sober-thought-ramet-religion-nation/
CATEGORIES:Sober Thought
ATTACH;FMTTYPE=image/png:https://grants.ulbsibiu.ro/ferbopo/wp-content/uploads/sober-thought-27-may-2026.png
ORGANIZER;CN="FERBOPO ERA Chair":MAILTO:grant.ferbopo@ulbsibiu.ro
END:VEVENT
END:VCALENDAR