BEGIN:VCALENDAR
VERSION:2.0
PRODID:-//FERBOPO ERA Chair - EU-Funded Project - ECPv6.8.1//NONSGML v1.0//EN
CALSCALE:GREGORIAN
METHOD:PUBLISH
X-WR-CALNAME:FERBOPO ERA Chair - EU-Funded Project
X-ORIGINAL-URL:https://grants.ulbsibiu.ro/ferbopo
X-WR-CALDESC:Events for FERBOPO ERA Chair - EU-Funded Project
REFRESH-INTERVAL;VALUE=DURATION:PT1H
X-Robots-Tag:noindex
X-PUBLISHED-TTL:PT1H
BEGIN:VTIMEZONE
TZID:UTC
BEGIN:STANDARD
TZOFFSETFROM:+0000
TZOFFSETTO:+0000
TZNAME:UTC
DTSTART:20250101T000000
END:STANDARD
END:VTIMEZONE
BEGIN:VEVENT
DTSTART;TZID=UTC:20250530T113000
DTEND;TZID=UTC:20250530T143000
DTSTAMP:20260422T031705
CREATED:20250510T101526Z
LAST-MODIFIED:20250527T101953Z
UID:382-1748604600-1748615400@grants.ulbsibiu.ro
SUMMARY:Roundtable FERBOPO ERA Chair
DESCRIPTION:This roundtable will feature keynote contributions from Professor Lavinia Stan\, ERA Chair holder and internationally renowned scholar from St. Francis Xavier University\, Canada\, who will share the academic vision of FERBOPO – EU-funded project. Moreover\, the roundtable will aim to highlight  its transformative potential for the research area in Romania and in Europe. \nThe Participants from this roundtable will discuss various topics\, including the future of Gender Studies in Romania and the role of ULBS as a hub for excellence in social sciences within the European Research Area.
URL:https://grants.ulbsibiu.ro/ferbopo/event/roundtable-ferbopo-may-2025/
LOCATION:Private: Mercure Sibiu Arsenal\, Bulevardul Victoriei 48\, Sibiu 550024\, Sibiu\, Romania
ATTACH;FMTTYPE=image/png:https://grants.ulbsibiu.ro/ferbopo/wp-content/uploads/roundtable-ferbopo-may-2025.png
END:VEVENT
END:VCALENDAR