BEGIN:VCALENDAR
VERSION:2.0
PRODID:-//FERBOPO ERA Chair - EU-Funded Project - ECPv6.8.1//NONSGML v1.0//EN
CALSCALE:GREGORIAN
METHOD:PUBLISH
X-WR-CALNAME:FERBOPO ERA Chair - EU-Funded Project
X-ORIGINAL-URL:https://grants.ulbsibiu.ro/ferbopo
X-WR-CALDESC:Events for FERBOPO ERA Chair - EU-Funded Project
REFRESH-INTERVAL;VALUE=DURATION:PT1H
X-Robots-Tag:noindex
X-PUBLISHED-TTL:PT1H
BEGIN:VTIMEZONE
TZID:UTC
BEGIN:STANDARD
TZOFFSETFROM:+0000
TZOFFSETTO:+0000
TZNAME:UTC
DTSTART:20240101T000000
END:STANDARD
END:VTIMEZONE
BEGIN:VEVENT
DTSTART;VALUE=DATE:20241125
DTEND;VALUE=DATE:20241127
DTSTAMP:20260422T114501
CREATED:20241111T194433Z
LAST-MODIFIED:20241114T194842Z
UID:142-1732492800-1732665599@grants.ulbsibiu.ro
SUMMARY:Kick-off Meeting
DESCRIPTION:During the Kick-off Meeting of FERBOPO EU-Funded Project\, Professor Lavinia Stan will take-up the position of ERA Chair Holder at  Lucian Blaga University of Sibiu’s (ULBS). \nAdditionally\, the kick-off meeting will showcase the scope and activities of FERBOPO – ‘Fostering Excellence in Research on State-Church-Body Politics’ – aimed at fostering academic excellence and strengthening ULBS’s presence in the European Research Area (ERA).
URL:https://grants.ulbsibiu.ro/ferbopo/event/kick-off-meeting/
LOCATION:ULBS Rectorate\, 10 Victoriei Bld.\, Sibiu\, Romania
ATTACH;FMTTYPE=image/png:https://grants.ulbsibiu.ro/ferbopo/wp-content/uploads/kick-off-meeting-event.png
ORGANIZER;CN="FERBOPO ERA Chair":MAILTO:grant.ferbopo@ulbsibiu.ro
END:VEVENT
END:VCALENDAR