BEGIN:VCALENDAR
VERSION:2.0
PRODID:-//COCERC - Centrul de Orientare în Cariera de Cercetător - Regiunea Centru - ECPv6.3.4//NONSGML v1.0//EN
CALSCALE:GREGORIAN
METHOD:PUBLISH
X-WR-CALNAME:COCERC - Centrul de Orientare în Cariera de Cercetător - Regiunea Centru
X-ORIGINAL-URL:https://grants.ulbsibiu.ro/cocerc
X-WR-CALDESC:Events for COCERC - Centrul de Orientare în Cariera de Cercetător - Regiunea Centru
REFRESH-INTERVAL;VALUE=DURATION:PT1H
X-Robots-Tag:noindex
X-PUBLISHED-TTL:PT1H
BEGIN:VTIMEZONE
TZID:UTC
BEGIN:STANDARD
TZOFFSETFROM:+0000
TZOFFSETTO:+0000
TZNAME:UTC
DTSTART:20240101T000000
END:STANDARD
END:VTIMEZONE
BEGIN:VEVENT
DTSTART;TZID=UTC:20241001T080000
DTEND;TZID=UTC:20241231T170000
DTSTAMP:20260421T115300
CREATED:20241223T171822Z
LAST-MODIFIED:20241223T171822Z
UID:577-1727769600-1735664400@grants.ulbsibiu.ro
SUMMARY:Promovarea rezultatelor cercetării în societate
DESCRIPTION:Centrul de Consiliere și Orintare în Cariera de Cercetător din Regiunea Centru (COCerc) organizează\, în perioada 1 octombrie 2024 – 31 decembrie 2024\, activități de promovarea rezultatelor cercetării în societate\, în rândul comunității educaționale / academice\, dar și în rândul tururor actorilor importanți din Regiunea Centru. . Această activitate este una dintre cele mai importante acțiuni din cadrul proiectului COCerc.
URL:https://grants.ulbsibiu.ro/cocerc/event/promovarea-rezultatelor-cercetarii-in-societate/
CATEGORIES:Promovarea rezultatelor cercetării în societate
ATTACH;FMTTYPE=image/svg+xml:https://grants.ulbsibiu.ro/cocerc/wp-content/uploads/cocerc-1.svg
END:VEVENT
END:VCALENDAR