BEGIN:VCALENDAR
VERSION:2.0
PRODID:-//COCERC - Centrul de Orientare în Cariera de Cercetător - Regiunea Centru - ECPv6.3.4//NONSGML v1.0//EN
CALSCALE:GREGORIAN
METHOD:PUBLISH
X-ORIGINAL-URL:https://grants.ulbsibiu.ro/cocerc
X-WR-CALDESC:Events for COCERC - Centrul de Orientare în Cariera de Cercetător - Regiunea Centru
REFRESH-INTERVAL;VALUE=DURATION:PT1H
X-Robots-Tag:noindex
X-PUBLISHED-TTL:PT1H
BEGIN:VTIMEZONE
TZID:UTC
BEGIN:STANDARD
TZOFFSETFROM:+0000
TZOFFSETTO:+0000
TZNAME:UTC
DTSTART:20250101T000000
END:STANDARD
END:VTIMEZONE
BEGIN:VEVENT
DTSTART;TZID=UTC:20250213T080000
DTEND;TZID=UTC:20250213T170000
DTSTAMP:20260421T070619
CREATED:20250211T041909Z
LAST-MODIFIED:20250211T042155Z
UID:585-1739433600-1739466000@grants.ulbsibiu.ro
SUMMARY:Știința înseamnă cunoaștere - Promovarea științei în rândul elevilor de liceele din jud. Brașov și Mureș
DESCRIPTION:Centrul de Consiliere și Orientare în Cariera de Cercetător – Regiunea Centru (COCerc) din cadrul Universității Lucian Blaga din Sibiu\, va participa pe 13 februarie 202 la proiectul Ştiinţa înseamnă cunoaştere al Colegiului Nicolae Titulescu din Braşov. Activitatea COCERC vizează promovarea științei și cercetării în societate\, dar mai ales în rândul elevilor de liceele din jud. Brașov și Mureș (Colegiul “Nicolae Titulescu”\, Colegiul Naţional „Dr. Ioan Meşotă” Braşov şi  Liceul Teoretic Joseph Haltrich Sighişoara) care vor cunoaște importanța cercetării\, științei și vor întâlnii specialiștii din Cocerc și ULBS. \nO a doua componentă a proiectului este vizita la ULBS\, în luna martie 2025\, a  elevilor de la liceele menționate\, unde vor participa la întâlniri cu studenții și cadrele didactice de la Facultățile de Medicină\, Științe-Socio Umane\, Drept\, Inginerie etc.\, vor participa la experimente\, vor vizita laboratoare și centre de cercetare\, pentru a promova știința\, cercetarea și cariera de cercetător.
URL:https://grants.ulbsibiu.ro/cocerc/event/stiinta-inseamna-cunoastere-promovarea-stiintei-in-randul-elevilor-de-liceele-din-jud-brasov-si-mures/
CATEGORIES:Promovarea rezultatelor cercetării în societate
ATTACH;FMTTYPE=image/png:https://grants.ulbsibiu.ro/cocerc/wp-content/uploads/cover_ULBS_Cocerc.png
ORGANIZER;CN="COCerc - Centrul de Orientare %C3%AEn Cariera de Cercet%C4%83tor - Regiunea Centru":MAILTO:grant.cocerc@ulbsibiu.ro
END:VEVENT
END:VCALENDAR